BEGIN:VCALENDAR
VERSION:2.0
PRODID:-//The Woods - ECPv6.15.18//NONSGML v1.0//EN
CALSCALE:GREGORIAN
METHOD:PUBLISH
X-WR-CALNAME:The Woods
X-ORIGINAL-URL:https://www.thewoodsmn.com
X-WR-CALDESC:Events for The Woods
REFRESH-INTERVAL;VALUE=DURATION:PT1H
X-Robots-Tag:noindex
X-PUBLISHED-TTL:PT1H
BEGIN:VTIMEZONE
TZID:America/Chicago
BEGIN:DAYLIGHT
TZOFFSETFROM:-0600
TZOFFSETTO:-0500
TZNAME:CDT
DTSTART:20240310T080000
END:DAYLIGHT
BEGIN:STANDARD
TZOFFSETFROM:-0500
TZOFFSETTO:-0600
TZNAME:CST
DTSTART:20241103T070000
END:STANDARD
BEGIN:DAYLIGHT
TZOFFSETFROM:-0600
TZOFFSETTO:-0500
TZNAME:CDT
DTSTART:20250309T080000
END:DAYLIGHT
BEGIN:STANDARD
TZOFFSETFROM:-0500
TZOFFSETTO:-0600
TZNAME:CST
DTSTART:20251102T070000
END:STANDARD
BEGIN:DAYLIGHT
TZOFFSETFROM:-0600
TZOFFSETTO:-0500
TZNAME:CDT
DTSTART:20260308T080000
END:DAYLIGHT
BEGIN:STANDARD
TZOFFSETFROM:-0500
TZOFFSETTO:-0600
TZNAME:CST
DTSTART:20261101T070000
END:STANDARD
END:VTIMEZONE
BEGIN:VEVENT
DTSTART;TZID=America/Chicago:20250330T080000
DTEND;TZID=America/Chicago:20250606T170000
DTSTAMP:20260419T101138
CREATED:20250318T212107Z
LAST-MODIFIED:20250318T212136Z
UID:10001474-1743321600-1749229200@www.thewoodsmn.com
SUMMARY:Got a 2025 Grad?
DESCRIPTION:Grad Parties Are Coming Up! Let us do the cooking! We will cater to your event! Or host a party at the restaurant or event center! \nCall to talk about options. 218-829-7507
URL:https://www.thewoodsmn.com/event/got-a-2025-grad/
LOCATION:Gather On 3 Event Center\, Brainerd\, 56401
ATTACH;FMTTYPE=image/png:https://www.thewoodsmn.com/wp-content/uploads/happy-graduation.png
END:VEVENT
END:VCALENDAR