BEGIN:VCALENDAR
VERSION:2.0
PRODID:-//The Woods - ECPv6.15.20//NONSGML v1.0//EN
CALSCALE:GREGORIAN
METHOD:PUBLISH
X-WR-CALNAME:The Woods
X-ORIGINAL-URL:https://www.thewoodsmn.com
X-WR-CALDESC:Events for The Woods
REFRESH-INTERVAL;VALUE=DURATION:PT1H
X-Robots-Tag:noindex
X-PUBLISHED-TTL:PT1H
BEGIN:VTIMEZONE
TZID:America/Chicago
BEGIN:DAYLIGHT
TZOFFSETFROM:-0600
TZOFFSETTO:-0500
TZNAME:CDT
DTSTART:20250309T080000
END:DAYLIGHT
BEGIN:STANDARD
TZOFFSETFROM:-0500
TZOFFSETTO:-0600
TZNAME:CST
DTSTART:20251102T070000
END:STANDARD
BEGIN:DAYLIGHT
TZOFFSETFROM:-0600
TZOFFSETTO:-0500
TZNAME:CDT
DTSTART:20260308T080000
END:DAYLIGHT
BEGIN:STANDARD
TZOFFSETFROM:-0500
TZOFFSETTO:-0600
TZNAME:CST
DTSTART:20261101T070000
END:STANDARD
BEGIN:DAYLIGHT
TZOFFSETFROM:-0600
TZOFFSETTO:-0500
TZNAME:CDT
DTSTART:20270314T080000
END:DAYLIGHT
BEGIN:STANDARD
TZOFFSETFROM:-0500
TZOFFSETTO:-0600
TZNAME:CST
DTSTART:20271107T070000
END:STANDARD
END:VTIMEZONE
BEGIN:VEVENT
DTSTART;TZID=America/Chicago:20260219T080000
DTEND;TZID=America/Chicago:20260425T170000
DTSTAMP:20260425T073635
CREATED:20260219T205016Z
LAST-MODIFIED:20260219T205513Z
UID:10001554-1771488000-1777136400@www.thewoodsmn.com
SUMMARY:Meat Raffles Thursdays & Saturdays!
DESCRIPTION:Brainerd Snodeos hosts a meat raffle every Thursday and Saturday at b*merri! Tickets go on sale at 5:30 PM on Thursdays and 4:00 PM on Saturdays\, they sell for one hour or until they’re all gone! Come in and give yourself a chance to win some delicious meat to take home while enjoying drinks and food for a fun evening out! \nMore about the Brainerd Snodeos Here!
URL:https://www.thewoodsmn.com/event/meat-raffles-thursdays-saturdays/
LOCATION:B Merri\, 19624 Co Rd 3\, Brainerd\, MN\, 56401\, United States
ATTACH;FMTTYPE=image/png:https://www.thewoodsmn.com/wp-content/uploads/81D56C5D-1FEE-4C7D-BA5A-0F2A890125EC.png
END:VEVENT
BEGIN:VEVENT
DTSTART;TZID=America/Chicago:20260423T080000
DTEND;TZID=America/Chicago:20260425T190000
DTSTAMP:20260425T073635
CREATED:20260422T161834Z
LAST-MODIFIED:20260422T161834Z
UID:10001570-1776931200-1777143600@www.thewoodsmn.com
SUMMARY:Watch the NFL Draft With Us!
DESCRIPTION:NFL Draft starts Thursday! Watch with us April 23rd – 25th and get Miller Lite Pounders for only $3.00!!! We’ll have food specials and meat raffles on Thursday and Saturday!!!
URL:https://www.thewoodsmn.com/event/watch-the-nfl-draft-with-us/
LOCATION:B Merri\, 19624 Co Rd 3\, Brainerd\, MN\, 56401\, United States
ATTACH;FMTTYPE=image/jpeg:https://www.thewoodsmn.com/wp-content/uploads/673525096_1542842451179127_4262582712048189656_n.jpg
END:VEVENT
BEGIN:VEVENT
DTSTART;TZID=America/Chicago:20260425T160000
DTEND;TZID=America/Chicago:20260425T190000
DTSTAMP:20260425T073635
CREATED:20260422T162548Z
LAST-MODIFIED:20260422T162548Z
UID:10001571-1777132800-1777143600@www.thewoodsmn.com
SUMMARY:MN Wild Watch Party!
DESCRIPTION:April 25th – MN Wild Start at 4:30\, Meat Raffle starts at 4:00. Food & Drink Specials during the game! Watch the puck drop with us!
URL:https://www.thewoodsmn.com/event/mn-wild-watch-party/
LOCATION:B Merri\, 19624 Co Rd 3\, Brainerd\, MN\, 56401\, United States
CATEGORIES:B Merri Events
ATTACH;FMTTYPE=image/jpeg:https://www.thewoodsmn.com/wp-content/uploads/677374533_1542682674528438_8551758757970665176_n.jpg
END:VEVENT
BEGIN:VEVENT
DTSTART;TZID=America/Chicago:20260425T193000
DTEND;TZID=America/Chicago:20260425T220000
DTSTAMP:20260425T073635
CREATED:20260422T163101Z
LAST-MODIFIED:20260422T163101Z
UID:10001572-1777145400-1777154400@www.thewoodsmn.com
SUMMARY:MN Timberwolves Watch Party!
DESCRIPTION:April 25th – MN Timberwolves at 7:30. Food & Drink Specials during the game! Watch the Timberwolves “Bring the Nice”!
URL:https://www.thewoodsmn.com/event/mn-timberwolves-watch-party/
LOCATION:B Merri\, 19624 Co Rd 3\, Brainerd\, MN\, 56401\, United States
CATEGORIES:B Merri Events
ATTACH;FMTTYPE=image/jpeg:https://www.thewoodsmn.com/wp-content/uploads/672687646_1542682694528436_60646574604976018_n.jpg
END:VEVENT
BEGIN:VEVENT
DTSTART;VALUE=DATE:20260502
DTEND;VALUE=DATE:20260503
DTSTAMP:20260425T073635
CREATED:20260415T151605Z
LAST-MODIFIED:20260422T161411Z
UID:10001568-1777680000-1777766399@www.thewoodsmn.com
SUMMARY:Kentucky Derby Party
DESCRIPTION:Mark Your Calendars for May 2nd!!!! It’s time for our annual Kentucky Derby Party! \nMore details coming soon!!!!!
URL:https://www.thewoodsmn.com/event/kentucky-derby-party/
LOCATION:B Merri\, 19624 Co Rd 3\, Brainerd\, MN\, 56401\, United States
ATTACH;FMTTYPE=image/jpeg:https://www.thewoodsmn.com/wp-content/uploads/672690083_1542723311191041_9095246936747597465_n.jpg
END:VEVENT
BEGIN:VEVENT
DTSTART;TZID=America/Chicago:20260510T090000
DTEND;TZID=America/Chicago:20260510T200000
DTSTAMP:20260425T073635
CREATED:20260422T163846Z
LAST-MODIFIED:20260422T164141Z
UID:10001573-1778403600-1778443200@www.thewoodsmn.com
SUMMARY:3 Ways to Celebrate Mom for Mother's Day!
DESCRIPTION: This Mother’s Day\, celebrate in a way that fits your family best—we’re offering three delicious ways to make her day special.\n\n 𝙊𝙥𝙩𝙞𝙤𝙣 1: 𝙈𝙤𝙩𝙝𝙚𝙧’𝙨 𝘿𝙖𝙮 𝘽𝙧𝙪𝙣𝙘𝙝 𝙖𝙩 𝙂𝙖𝙩𝙝𝙚𝙧 𝙤𝙣 3 (𝙎𝙪𝙣𝙙𝙖𝙮)Join us for a beautifully curated brunch experience at the Gather on 3 Event Center. Reservations are required and some seating times fill quickly so don’t delay! Adults $32.99 | Ages 5-12 $15.99 | 4 and under free\n\n 𝙊𝙥𝙩𝙞𝙤𝙣 2: 𝙏𝙖𝙠𝙚 & 𝙃𝙚𝙖𝙩 𝘿𝙞𝙣𝙣𝙚𝙧 (𝙎𝙖𝙩𝙪𝙧𝙙𝙖𝙮 𝙋𝙞𝙘𝙠𝙪𝙥)Enjoy a stress-free Sunday at home with a delicious\, chef-prepared dinner. Pick up on Saturday\, heat at home\, and spend more time around the table with Mom. Pre-order required. Dinner for one $27.99 | For two – $53.99 | For four – $103.99 | For eight – $199.99.\n\n 𝙊𝙥𝙩𝙞𝙤𝙣 3: 𝙋𝙧𝙞𝙢𝙚 𝙍𝙞𝙗 𝘿𝙞𝙣𝙣𝙚𝙧 𝙖𝙩 𝘽*𝙈𝙚𝙧𝙧𝙞 𝙂𝙖𝙨𝙩𝙧𝙤𝙥𝙪𝙗 (𝙎𝙪𝙣𝙙𝙖𝙮)Treat Mom to an evening out featuring our signature Prime Rib dinner as well as limited menu offerings. Bar opens at 2 PM. Dinner service begins at 4 PM. Reservations recommended.\n\n\nHowever you celebrate\, we’re here to make it easy\, memorable\, and delicious.\n\n\nPlease make your reservations HERE OR you can call: 218-822-4336 to make reservations for:>Sunday Brunch at Gather on 3 Event Center | 9:00-1:30 seatings>Sunday Dinner at b*merri gastropub | Bar opens at 2:00\, dinner starts at 4:00\n\n“In the land of 10\,000 lakes\, remember The Woods”
URL:https://www.thewoodsmn.com/event/3-ways-to-celebrate-mom-for-mothers-day/
LOCATION:Gather On 3 Event Center\, Brainerd\, 56401
ATTACH;FMTTYPE=image/jpeg:https://www.thewoodsmn.com/wp-content/uploads/671746863_1539958011467571_8232667289904641344_n.jpg
END:VEVENT
BEGIN:VEVENT
DTSTART;TZID=America/Chicago:20260515T170000
DTEND;TZID=America/Chicago:20260515T230000
DTSTAMP:20260425T073635
CREATED:20260415T150722Z
LAST-MODIFIED:20260415T151815Z
UID:10001566-1778864400-1778886000@www.thewoodsmn.com
SUMMARY:Country Dance Hall - Live Music!
DESCRIPTION:Join us for boot-scootin’\, partner-twirlin’\, hoedown of a good time! “The Mark Peterson Band”\, a local well known legendary favorite classic home-grown country band is coming live to our venue on Friday\, May 15th!!!\n\nTo make it even more boot stompin”& a Twirlin’ we have two professional country swing dance instructors from northwoods dance school here to instruct step by step before the music starts and have some fun once the music begins!\n\nEvent Details:Time: 4:30 Doors Open cash bar open5:30 Chef’s Smokin’ Gun Buffet7:00-8:00 Dance instruction8:00-11:00 Mark Petersen Band!!!Dress Code: boots\, hats\, dressy\, casual you choose\n\n Tickets: $59.95 per person VIP table of 8 (close to the action and 2 drinks per person)\nIndividual ticketsVIP table for 8
URL:https://www.thewoodsmn.com/event/country-dance-hall-live-music/
LOCATION:Gather On 3 Event Center\, Brainerd\, 56401
CATEGORIES:Gather On 3
ATTACH;FMTTYPE=image/jpeg:https://www.thewoodsmn.com/wp-content/uploads/666467496_1531497598980279_5841315528669479288_n.jpg
END:VEVENT
END:VCALENDAR